BEGIN:VCALENDAR
VERSION:2.0
PRODID:-//Plone.org//NONSGML plone.app.event//EN
X-WR-TIMEZONE:Europe/Madrid
BEGIN:VEVENT
SUMMARY:I Open Condor de Futbol Base
DTSTART;TZID=Europe/Madrid;VALUE=DATE-TIME:20080601T090000
DTEND;TZID=Europe/Madrid;VALUE=DATE-TIME:20080601T100000
DTSTAMP;VALUE=DATE-TIME:20260423T232121Z
UID:672dedb5ec359f95f74ae45d50043406
CREATED;VALUE=DATE-TIME:20080601T000000Z
CATEGORIES:Esports
LOCATION:Camp de Futbol
ORGANIZER:Club de Futbol Arenys i Cóndor
COMMENT:Preu: Gratuït
Durada: Fins dissabte 7 de juny
DESCRIPTION:110 anys Condor
URL:https://arenysdemar.cat/document.php?id=18886
END:VEVENT
END:VCALENDAR