BEGIN:VCALENDAR
VERSION:2.0
PRODID:-//Plone.org//NONSGML plone.app.event//EN
X-WR-TIMEZONE:Europe/Madrid
BEGIN:VEVENT
SUMMARY:Recital musical
DTSTART;TZID=Europe/Madrid;VALUE=DATE-TIME:20080606T213000
DTEND;TZID=Europe/Madrid;VALUE=DATE-TIME:20080606T223000
DTSTAMP;VALUE=DATE-TIME:20260424T024023Z
UID:9b5bab61fe01390b9ce176098f609d9a
CREATED;VALUE=DATE-TIME:20080606T000000Z
CATEGORIES:Música
LOCATION:Teatre Principal
ORGANIZER:Associació de Veïns Arenys de Mar Nucli Antic (AVANA)
COMMENT:Preu: 3&euro;. Venda d'entrades al Setciències, de dl a dj de 18 a 20h al C.C.Calisay i 1/2 hora abans a taquilla
DESCRIPTION:a càrrec de Raquel Xiberta
URL:https://arenysdemar.cat/document.php?id=18889
END:VEVENT
END:VCALENDAR