BEGIN:VCALENDAR
VERSION:2.0
PRODID:-//Plone.org//NONSGML plone.app.event//EN
X-WR-TIMEZONE:Europe/Madrid
BEGIN:VEVENT
SUMMARY:Torneig Volei Platja 4x4
DTSTART;TZID=Europe/Madrid;VALUE=DATE-TIME:20080705T100000
DTEND;TZID=Europe/Madrid;VALUE=DATE-TIME:20080705T110000
DTSTAMP;VALUE=DATE-TIME:20260421T133444Z
UID:a3565b0c62d1cb7d58b6549117f63cf4
CREATED;VALUE=DATE-TIME:20080705T000000Z
CATEGORIES:Esports
LOCATION:Platja Picòrdia (1ª Platja)
ORGANIZER:Associació Volei Arenys
URL:https://arenysdemar.cat/document.php?id=18920
END:VEVENT
END:VCALENDAR