BEGIN:VCALENDAR
VERSION:2.0
PRODID:-//Plone.org//NONSGML plone.app.event//EN
X-WR-TIMEZONE:Europe/Madrid
BEGIN:VEVENT
SUMMARY:Conferència
DTSTART;TZID=Europe/Madrid;VALUE=DATE-TIME:20080918T193000
DTEND;TZID=Europe/Madrid;VALUE=DATE-TIME:20080918T203000
DTSTAMP;VALUE=DATE-TIME:20260424T044954Z
UID:a83bdbd03407e67a18eff7faaf0c4d23
CREATED;VALUE=DATE-TIME:20080918T000000Z
CATEGORIES:Conferència
LOCATION:Sala Noble del C.C.Calisay
ORGANIZER:ASOLC - Arenys de Mar
COMMENT:Preu: gratuït
DESCRIPTION:La sociolingüística avui
URL:https://arenysdemar.cat/document.php?id=18943
END:VEVENT
END:VCALENDAR