BEGIN:VCALENDAR
VERSION:2.0
PRODID:-//Plone.org//NONSGML plone.app.event//EN
X-WR-TIMEZONE:Europe/Madrid
BEGIN:VEVENT
SUMMARY:Inauguració de la nova exposició permanent
DTSTART;TZID=Europe/Madrid;VALUE=DATE-TIME:20080713T120000
DTEND;TZID=Europe/Madrid;VALUE=DATE-TIME:20080713T130000
DTSTAMP;VALUE=DATE-TIME:20260421T161157Z
UID:54d5a5bdcb99aad010c2407d2c6648be
CREATED;VALUE=DATE-TIME:20080713T000000Z
CATEGORIES:Exposició
LOCATION:Museu Marès de la Punta
ORGANIZER:Museu d'Arenys de Mar
DESCRIPTION:Arenys de mar, una història
URL:https://arenysdemar.cat/document.php?id=18948
END:VEVENT
END:VCALENDAR