BEGIN:VCALENDAR
VERSION:2.0
PRODID:-//Plone.org//NONSGML plone.app.event//EN
X-WR-TIMEZONE:Europe/Madrid
BEGIN:VEVENT
SUMMARY:Lectures: Un passeig per la plaça del Diamant
DTSTART;TZID=Europe/Madrid;VALUE=DATE-TIME:20081114T200000
DTEND;TZID=Europe/Madrid;VALUE=DATE-TIME:20081114T210000
DTSTAMP;VALUE=DATE-TIME:20260423T200615Z
UID:da9fce8e23ca06a708ecffce224757c7
CREATED;VALUE=DATE-TIME:20081114T000000Z
CATEGORIES:Literatura
LOCATION:Biblioteca
ORGANIZER:Biblioteca - Regidoria de Cultura
DESCRIPTION:A càrrec d´Anna Carné i Gemma Sangerman
URL:https://arenysdemar.cat/document.php?id=18949
END:VEVENT
END:VCALENDAR