BEGIN:VCALENDAR
VERSION:2.0
PRODID:-//Plone.org//NONSGML plone.app.event//EN
X-WR-TIMEZONE:Europe/Madrid
BEGIN:VEVENT
SUMMARY:Exposició VI Concurs de Fotografies
DTSTART;TZID=Europe/Madrid;VALUE=DATE-TIME:20080816T130000
DTEND;TZID=Europe/Madrid;VALUE=DATE-TIME:20080816T140000
DTSTAMP;VALUE=DATE-TIME:20260420T204948Z
UID:e7535bb89e1ecae2f71d862ad422567e
CREATED;VALUE=DATE-TIME:20080816T000000Z
CATEGORIES:Exposició
LOCATION:Mercat Municipal
ORGANIZER:Fira del Solstici i AFA
COMMENT:Durada: fins al 30 d'agost
DESCRIPTION:LLiurament de premis i exposició del VI Concurs de fotografies de la Fira del Solstici
URL:https://arenysdemar.cat/document.php?id=18966
END:VEVENT
END:VCALENDAR