BEGIN:VCALENDAR
VERSION:2.0
PRODID:-//Plone.org//NONSGML plone.app.event//EN
X-WR-TIMEZONE:Europe/Madrid
BEGIN:VEVENT
SUMMARY:Curs d'apertura dels registres Akáshics
DTSTART;TZID=Europe/Madrid;VALUE=DATE-TIME:20080809T100000
DTEND;TZID=Europe/Madrid;VALUE=DATE-TIME:20080809T110000
DTSTAMP;VALUE=DATE-TIME:20260421T010608Z
UID:01c5e783bfaf2f63562df36d995f62fe
CREATED;VALUE=DATE-TIME:20080809T000000Z
CATEGORIES:Cursos
LOCATION:Auditori J.M. Arnau del C.C.Calisay
ORGANIZER:Hacia El Despertar
COMMENT:Preu: 200 &euro;
DESCRIPTION:Nivell I
URL:https://arenysdemar.cat/document.php?id=18977
END:VEVENT
END:VCALENDAR