BEGIN:VCALENDAR
VERSION:2.0
PRODID:-//Plone.org//NONSGML plone.app.event//EN
X-WR-TIMEZONE:Europe/Madrid
BEGIN:VEVENT
SUMMARY:Apertura dels registres Akáshics
DTSTART;TZID=Europe/Madrid;VALUE=DATE-TIME:20080810T100000
DTEND;TZID=Europe/Madrid;VALUE=DATE-TIME:20080810T110000
DTSTAMP;VALUE=DATE-TIME:20260424T022951Z
UID:f3ad67a8a4da8284efd0fcf89a73953a
CREATED;VALUE=DATE-TIME:20080810T000000Z
CATEGORIES:Cursos
LOCATION:Auditori J.M. Arnau del C.C.Calisay
ORGANIZER:Hacia El Despertar
COMMENT:Preu: 200 &euro;
DESCRIPTION:Nivell II
URL:https://arenysdemar.cat/document.php?id=18978
END:VEVENT
END:VCALENDAR