BEGIN:VCALENDAR
VERSION:2.0
PRODID:-//Plone.org//NONSGML plone.app.event//EN
X-WR-TIMEZONE:Europe/Madrid
BEGIN:VEVENT
SUMMARY:26a. Pedalejada popular
DTSTART;TZID=Europe/Madrid;VALUE=DATE-TIME:20080815T090000
DTEND;TZID=Europe/Madrid;VALUE=DATE-TIME:20080815T100000
DTSTAMP;VALUE=DATE-TIME:20260426T063432Z
UID:a7db91dd98034225a856ee906b8e55bf
CREATED;VALUE=DATE-TIME:20080815T000000Z
CATEGORIES:Festa
LOCATION:A la Riera, davant del C.C.Calisay
ORGANIZER:UBICA
URL:https://arenysdemar.cat/document.php?id=18995
END:VEVENT
END:VCALENDAR