BEGIN:VCALENDAR
VERSION:2.0
PRODID:-//Plone.org//NONSGML plone.app.event//EN
X-WR-TIMEZONE:Europe/Madrid
BEGIN:VEVENT
SUMMARY:Cercavila de gegants, nans i el drac Arenyot
DTSTART;TZID=Europe/Madrid;VALUE=DATE-TIME:20080816T183000
DTEND;TZID=Europe/Madrid;VALUE=DATE-TIME:20080816T193000
DTSTAMP;VALUE=DATE-TIME:20260424T061645Z
UID:6cc25a46267533a9a2009c6a2c5cb25b
CREATED;VALUE=DATE-TIME:20080816T000000Z
LOCATION:Inici del recorregut a la Riera, davant del C.C.Calisay
ORGANIZER:Geganters d'Arenys de Mar
URL:https://arenysdemar.cat/document.php?id=18998
END:VEVENT
END:VCALENDAR