BEGIN:VCALENDAR
VERSION:2.0
PRODID:-//Plone.org//NONSGML plone.app.event//EN
X-WR-TIMEZONE:Europe/Madrid
BEGIN:VEVENT
SUMMARY:XXXIV Concurs infantil i juvenil de pesca
DTSTART;TZID=Europe/Madrid;VALUE=DATE-TIME:20080706T100000
DTEND;TZID=Europe/Madrid;VALUE=DATE-TIME:20080706T110000
DTSTAMP;VALUE=DATE-TIME:20260423T210522Z
UID:f27514230234a4743e9d9001ade6f56f
CREATED;VALUE=DATE-TIME:20080706T000000Z
CATEGORIES:Esports
LOCATION:Instal·lacions del Club Pesca Mar Sport
ORGANIZER:Club Pesca Mar Sport
COMMENT:Preu: Inscripcions gratuites a 2/4 de 10 de la nit
URL:https://arenysdemar.cat/document.php?id=19029
END:VEVENT
END:VCALENDAR