BEGIN:VCALENDAR
VERSION:2.0
PRODID:-//Plone.org//NONSGML plone.app.event//EN
X-WR-TIMEZONE:Europe/Madrid
BEGIN:VEVENT
SUMMARY:Exposició col·lectiva de pintura
DTSTART;TZID=Europe/Madrid;VALUE=DATE-TIME:20080905T000000
DTEND;TZID=Europe/Madrid;VALUE=DATE-TIME:20080905T010000
DTSTAMP;VALUE=DATE-TIME:20260421T143035Z
UID:10fb0580b9607610b96898c525d94092
CREATED;VALUE=DATE-TIME:20080905T000000Z
LOCATION:Sala exposicions Lloveras
ORGANIZER:Regidoria de Cultura
COMMENT:Durada: fins al 28 de setembre de 2008
DESCRIPTION:a càrrec d'Art7 Grup
URL:https://arenysdemar.cat/document.php?id=19120
END:VEVENT
END:VCALENDAR