BEGIN:VCALENDAR
VERSION:2.0
PRODID:-//Plone.org//NONSGML plone.app.event//EN
X-WR-TIMEZONE:Europe/Madrid
BEGIN:VEVENT
SUMMARY:Tennis al Carrer
DTSTART;TZID=Europe/Madrid;VALUE=DATE-TIME:20080810T170000
DTEND;TZID=Europe/Madrid;VALUE=DATE-TIME:20080810T180000
DTSTAMP;VALUE=DATE-TIME:20260423T232255Z
UID:a71e9e9359c60a39443bf0fea01b86eb
CREATED;VALUE=DATE-TIME:20080810T000000Z
CATEGORIES:Esports
LOCATION:Davant l'Edifici Calisay
ORGANIZER:Club Tennis Arenys i Regidoria d'Esports
URL:https://arenysdemar.cat/document.php?id=19123
END:VEVENT
END:VCALENDAR