BEGIN:VCALENDAR
VERSION:2.0
PRODID:-//Plone.org//NONSGML plone.app.event//EN
X-WR-TIMEZONE:Europe/Madrid
BEGIN:VEVENT
SUMMARY:Itinerari geològic per Arenys de Mar
DTSTART;TZID=Europe/Madrid;VALUE=DATE-TIME:20081116T100000
DTEND;TZID=Europe/Madrid;VALUE=DATE-TIME:20081116T110000
DTSTAMP;VALUE=DATE-TIME:20260420T153541Z
UID:fc68bfb8f178ad5d89006ed85f56ee1d
CREATED;VALUE=DATE-TIME:20081116T000000Z
LOCATION:Diversos carrers d'Arenys de Mar
ORGANIZER:Museu d'Arenys de Mar- Regidoria de Cultura
URL:https://arenysdemar.cat/document.php?id=19139
END:VEVENT
END:VCALENDAR