BEGIN:VCALENDAR
VERSION:2.0
PRODID:-//Plone.org//NONSGML plone.app.event//EN
X-WR-TIMEZONE:Europe/Madrid
BEGIN:VEVENT
SUMMARY:Vespres digitals: Un model de comunicació audiovisual de proximitat
DTSTART;TZID=Europe/Madrid;VALUE=DATE-TIME:20080801T193000
DTEND;TZID=Europe/Madrid;VALUE=DATE-TIME:20080801T203000
DTSTAMP;VALUE=DATE-TIME:20260420T184207Z
UID:36393f3cd12126e5cb3beef5a7c100b0
CREATED;VALUE=DATE-TIME:20080801T000000Z
CATEGORIES:Conferència
LOCATION:Biblioplatja
DESCRIPTION:a càrrec de Jordi Marín, director-gerent Consorci Digital Mataró-Maresme
URL:https://arenysdemar.cat/document.php?id=19152
END:VEVENT
END:VCALENDAR