BEGIN:VCALENDAR
VERSION:2.0
PRODID:-//Plone.org//NONSGML plone.app.event//EN
X-WR-TIMEZONE:Europe/Madrid
BEGIN:VEVENT
SUMMARY:XXXIII Torneig de Futbol Juvenil Vila d'Arenys
DTSTART;TZID=Europe/Madrid;VALUE=DATE-TIME:20080815T180000
DTEND;TZID=Europe/Madrid;VALUE=DATE-TIME:20080815T190000
DTSTAMP;VALUE=DATE-TIME:20260422T171544Z
UID:be542d32bf86ab6777e00aae9bd1706b
CREATED;VALUE=DATE-TIME:20080815T000000Z
CATEGORIES:Esports
LOCATION:Camp de Futbol
ORGANIZER:Club de Futbol Arenys de Mar i Regidoria d'Esports
COMMENT:Durada: fins al 17 d'agost
URL:https://arenysdemar.cat/document.php?id=19173
END:VEVENT
END:VCALENDAR