BEGIN:VCALENDAR
VERSION:2.0
PRODID:-//Plone.org//NONSGML plone.app.event//EN
X-WR-TIMEZONE:Europe/Madrid
BEGIN:VEVENT
SUMMARY:Havaneres i cançons de taverna
DTSTART;TZID=Europe/Madrid;VALUE=DATE-TIME:20080912T223000
DTEND;TZID=Europe/Madrid;VALUE=DATE-TIME:20080912T233000
DTSTAMP;VALUE=DATE-TIME:20260421T201211Z
UID:d242610a9f4b8a5d69143e2746133ee6
CREATED;VALUE=DATE-TIME:20080912T000000Z
CATEGORIES:Música
LOCATION:Ateneu Arenyenc
ORGANIZER:Ateneu Arenyenc
DESCRIPTION:a càrrec del Grup Borinquen
URL:https://arenysdemar.cat/document.php?id=19212
END:VEVENT
END:VCALENDAR