BEGIN:VCALENDAR
VERSION:2.0
PRODID:-//Plone.org//NONSGML plone.app.event//EN
X-WR-TIMEZONE:Europe/Madrid
BEGIN:VEVENT
SUMMARY:Mastorna
DTSTART;TZID=Europe/Madrid;VALUE=DATE-TIME:20081005T190000
DTEND;TZID=Europe/Madrid;VALUE=DATE-TIME:20081005T200000
DTSTAMP;VALUE=DATE-TIME:20260423T232137Z
UID:92a441be5818f61d6d85c7a2c2d1aba9
CREATED;VALUE=DATE-TIME:20081005T000000Z
CATEGORIES:Teatre
LOCATION:Teatre Principal
ORGANIZER:S.C.L'Esperança - Regidoria de Cultura
COMMENT:Preu: 10 &euro;
DESCRIPTION:A càrrec de la Cia. L'Abric
URL:https://arenysdemar.cat/document.php?id=19263
END:VEVENT
END:VCALENDAR