BEGIN:VCALENDAR
VERSION:2.0
PRODID:-//Plone.org//NONSGML plone.app.event//EN
X-WR-TIMEZONE:Europe/Madrid
BEGIN:VEVENT
SUMMARY:2n Sinera Rock
DTSTART;TZID=Europe/Madrid;VALUE=DATE-TIME:20081004T230000
DTEND;TZID=Europe/Madrid;VALUE=DATE-TIME:20081005T000000
DTSTAMP;VALUE=DATE-TIME:20260423T165410Z
UID:9466906aa3c7b45f82b20a384274398a
CREATED;VALUE=DATE-TIME:20081004T000000Z
CATEGORIES:Música
LOCATION:Pavelló Fons de les Creus
ORGANIZER:Col·lectiu TRES-A
COMMENT:Preu: 6 &euro;
DESCRIPTION:Festival 2008
URL:https://arenysdemar.cat/document.php?id=19294
END:VEVENT
END:VCALENDAR