BEGIN:VCALENDAR
VERSION:2.0
PRODID:-//Plone.org//NONSGML plone.app.event//EN
X-WR-TIMEZONE:Europe/Madrid
BEGIN:VEVENT
SUMMARY:Conferència de Cultura Popular i Tradicional
DTSTART;TZID=Europe/Madrid;VALUE=DATE-TIME:20081104T180000
DTEND;TZID=Europe/Madrid;VALUE=DATE-TIME:20081104T190000
DTSTAMP;VALUE=DATE-TIME:20260423T121537Z
UID:3bb27cb2d72319f08811d1f4be6a9da1
CREATED;VALUE=DATE-TIME:20081104T000000Z
CATEGORIES:Conferència
LOCATION:Auditori J.M. Arnau del C.C.Calisay
ORGANIZER:Aula d'Extensió Universitària
DESCRIPTION:La cultura popular a l'època de la industrialització a càrrec de Joan Soler Amigó, pedagog i estudiós
URL:https://arenysdemar.cat/document.php?id=19316
END:VEVENT
END:VCALENDAR