BEGIN:VCALENDAR
VERSION:2.0
PRODID:-//Plone.org//NONSGML plone.app.event//EN
X-WR-TIMEZONE:Europe/Madrid
BEGIN:VEVENT
SUMMARY:Conferència de Societat
DTSTART;TZID=Europe/Madrid;VALUE=DATE-TIME:20081118T180000
DTEND;TZID=Europe/Madrid;VALUE=DATE-TIME:20081118T190000
DTSTAMP;VALUE=DATE-TIME:20260421T015403Z
UID:4c9d360021485f71ed9115af63cbed98
CREATED;VALUE=DATE-TIME:20081118T000000Z
CATEGORIES:Conferència
LOCATION:Auditori J.M. Arnau del C.C.Calisay
ORGANIZER:Aula d'Extensió Universitària
DESCRIPTION:Immigració: una mirada des del món educatiu a càrrec de Sheila González, de la Universitat Autònoma de Barcelona
URL:https://arenysdemar.cat/document.php?id=19322
END:VEVENT
END:VCALENDAR