BEGIN:VCALENDAR
VERSION:2.0
PRODID:-//Plone.org//NONSGML plone.app.event//EN
X-WR-TIMEZONE:Europe/Madrid
BEGIN:VEVENT
SUMMARY:Taller : Connecta amb els teus fills
DTSTART;TZID=Europe/Madrid;VALUE=DATE-TIME:20081106T200000
DTEND;TZID=Europe/Madrid;VALUE=DATE-TIME:20081106T210000
DTSTAMP;VALUE=DATE-TIME:20260423T142656Z
UID:54a2efeb4a0660d785382b1877c37d40
CREATED;VALUE=DATE-TIME:20081106T000000Z
CATEGORIES:Conferència
LOCATION:Sala Noble del C.C.Calisay
ORGANIZER:AMPA IES Els Tres Turons
COMMENT:Durada: També el 13 de novembre de 2008
DESCRIPTION:Parlem de les drogues
URL:https://arenysdemar.cat/document.php?id=19337
END:VEVENT
END:VCALENDAR