BEGIN:VCALENDAR
VERSION:2.0
PRODID:-//Plone.org//NONSGML plone.app.event//EN
X-WR-TIMEZONE:Europe/Madrid
BEGIN:VEVENT
SUMMARY:Tertúlia de novel&bull;la: A l´entorn de Mercè Rodoreda, en commemoració del centenari del seu naixement
DTSTART;TZID=Europe/Madrid;VALUE=DATE-TIME:20081117T190000
DTEND;TZID=Europe/Madrid;VALUE=DATE-TIME:20081117T200000
DTSTAMP;VALUE=DATE-TIME:20260423T232036Z
UID:79c7bea5358e1b83cd2ddcd2a676dcb6
CREATED;VALUE=DATE-TIME:20081117T000000Z
CATEGORIES:Literatura
LOCATION:Biblioteca
ORGANIZER:Biblioteca - Regidoria de Cultura
DESCRIPTION:A càrrec de Teresa Montmany
URL:https://arenysdemar.cat/document.php?id=19351
END:VEVENT
END:VCALENDAR