BEGIN:VCALENDAR
VERSION:2.0
PRODID:-//Plone.org//NONSGML plone.app.event//EN
X-WR-TIMEZONE:Europe/Madrid
BEGIN:VEVENT
SUMMARY:Ball a l'Ateneu
DTSTART;TZID=Europe/Madrid;VALUE=DATE-TIME:20081102T183000
DTEND;TZID=Europe/Madrid;VALUE=DATE-TIME:20081102T193000
DTSTAMP;VALUE=DATE-TIME:20260420T152924Z
UID:83f0e4aba07fece1701209ce979a85df
CREATED;VALUE=DATE-TIME:20081102T000000Z
CATEGORIES:Música
LOCATION:Sala de ball de l'Ateneu Arenyenc
ORGANIZER:Ateneu Arenyenc
DESCRIPTION:amb el duo musical Mediterráneo
URL:https://arenysdemar.cat/document.php?id=19360
END:VEVENT
END:VCALENDAR