BEGIN:VCALENDAR
VERSION:2.0
PRODID:-//Plone.org//NONSGML plone.app.event//EN
X-WR-TIMEZONE:Europe/Madrid
BEGIN:VEVENT
SUMMARY:Ball a l'Ateneu
DTSTART;TZID=Europe/Madrid;VALUE=DATE-TIME:20081116T183000
DTEND;TZID=Europe/Madrid;VALUE=DATE-TIME:20081116T193000
DTSTAMP;VALUE=DATE-TIME:20260423T105111Z
UID:aa79ebcd4c39b65a52111c3898f06b2a
CREATED;VALUE=DATE-TIME:20081116T000000Z
CATEGORIES:Música
LOCATION:Sala de ball de l'Ateneu Arenyenc
ORGANIZER:Ateneu Arenyenc
DESCRIPTION:música: a càrrec de Ferran
URL:https://arenysdemar.cat/document.php?id=19364
END:VEVENT
END:VCALENDAR