BEGIN:VCALENDAR
VERSION:2.0
PRODID:-//Plone.org//NONSGML plone.app.event//EN
X-WR-TIMEZONE:Europe/Madrid
BEGIN:VEVENT
SUMMARY:Circuït Folc
DTSTART;TZID=Europe/Madrid;VALUE=DATE-TIME:20081212T213000
DTEND;TZID=Europe/Madrid;VALUE=DATE-TIME:20081212T223000
DTSTAMP;VALUE=DATE-TIME:20260423T214751Z
UID:9a0d292de1caa67c961ece201befa43c
CREATED;VALUE=DATE-TIME:20081212T000000Z
LOCATION:Auditori J.M. Arnau del C.C.Calisay
ORGANIZER:Regidoria de Cultura i Centre Artesà Tradicionarius
COMMENT:Preu: 1 &euro;. La totalitat de la recaptació s'aportarà a la Marató de TV3
DESCRIPTION:amb Pep Gimeno "Botifarra", Violina Folk i Nou Romancer
URL:https://arenysdemar.cat/document.php?id=19435
END:VEVENT
END:VCALENDAR