BEGIN:VCALENDAR
VERSION:2.0
PRODID:-//Plone.org//NONSGML plone.app.event//EN
X-WR-TIMEZONE:Europe/Madrid
BEGIN:VEVENT
SUMMARY:EXPO-VAL
DTSTART;TZID=Europe/Madrid;VALUE=DATE-TIME:20081104T000000
DTEND;TZID=Europe/Madrid;VALUE=DATE-TIME:20081104T010000
DTSTAMP;VALUE=DATE-TIME:20260424T005529Z
UID:9a334bfe7570ba45d8ab500c9f987b10
CREATED;VALUE=DATE-TIME:20081104T000000Z
CATEGORIES:Exposició
LOCATION:Sala de les Bótes
ORGANIZER:Regidoria d'Acció Social
COMMENT:Durada: Fins al diumenge 16 de novembre de 2008
DESCRIPTION:Exposició sobre valors i voluntariat
URL:https://arenysdemar.cat/document.php?id=19452
END:VEVENT
END:VCALENDAR