BEGIN:VCALENDAR
VERSION:2.0
PRODID:-//Plone.org//NONSGML plone.app.event//EN
X-WR-TIMEZONE:Europe/Madrid
BEGIN:VEVENT
SUMMARY:Taller de Scrapbooking
DTSTART;TZID=Europe/Madrid;VALUE=DATE-TIME:20081209T180000
DTEND;TZID=Europe/Madrid;VALUE=DATE-TIME:20081209T190000
DTSTAMP;VALUE=DATE-TIME:20260421T231834Z
UID:e5d64df5e982d95528f8b61aab4010ba
CREATED;VALUE=DATE-TIME:20081209T000000Z
CATEGORIES:Cursos
LOCATION:S.I.J./C.C.Calisay
ORGANIZER:Floc
COMMENT:Preu: 4&euro;
DESCRIPTION:Creacions artesanals amb fotografies
URL:https://arenysdemar.cat/document.php?id=19497
END:VEVENT
END:VCALENDAR