BEGIN:VCALENDAR
VERSION:2.0
PRODID:-//Plone.org//NONSGML plone.app.event//EN
X-WR-TIMEZONE:Europe/Madrid
BEGIN:VEVENT
SUMMARY:Hora del conte
DTSTART;TZID=Europe/Madrid;VALUE=DATE-TIME:20090122T180000
DTEND;TZID=Europe/Madrid;VALUE=DATE-TIME:20090122T190000
DTSTAMP;VALUE=DATE-TIME:20260422T011001Z
UID:4bb73567dc9c31aed350324dae37ffdb
CREATED;VALUE=DATE-TIME:20090122T000000Z
CATEGORIES:Infantils
LOCATION:Biblioteca
ORGANIZER:Biblioteca - Regidoria de Cultura
URL:https://arenysdemar.cat/document.php?id=19500
END:VEVENT
END:VCALENDAR