BEGIN:VCALENDAR
VERSION:2.0
PRODID:-//Plone.org//NONSGML plone.app.event//EN
X-WR-TIMEZONE:Europe/Madrid
BEGIN:VEVENT
SUMMARY:Conferència de Física
DTSTART;TZID=Europe/Madrid;VALUE=DATE-TIME:20090120T180000
DTEND;TZID=Europe/Madrid;VALUE=DATE-TIME:20090120T190000
DTSTAMP;VALUE=DATE-TIME:20260419T184749Z
UID:924b79420c1a96ec8da6d7727249e01b
CREATED;VALUE=DATE-TIME:20090120T000000Z
CATEGORIES:Conferència
LOCATION:Auditori J.M. Arnau del C.C.Calisay
ORGANIZER:Aula d'Extensió Universitària
DESCRIPTION:La dimensió còsmica dels humans : què fem en un Univers tan gran? a càrrec de David Jou de la Universitat Autònoma de Barcelona
URL:https://arenysdemar.cat/document.php?id=19519
END:VEVENT
END:VCALENDAR