BEGIN:VCALENDAR
VERSION:2.0
PRODID:-//Plone.org//NONSGML plone.app.event//EN
X-WR-TIMEZONE:Europe/Madrid
BEGIN:VEVENT
SUMMARY:Ball a l'envelat
DTSTART;TZID=Europe/Madrid;VALUE=DATE-TIME:20090110T230000
DTEND;TZID=Europe/Madrid;VALUE=DATE-TIME:20090111T000000
DTSTAMP;VALUE=DATE-TIME:20260421T232904Z
UID:0b01eeea02b4d1f49f879bf311125f09
CREATED;VALUE=DATE-TIME:20090110T000000Z
CATEGORIES:Festa,Música
LOCATION:Ateneu Arenyenc
ORGANIZER:Ateneu Arenyenc
DESCRIPTION:amb Reswing Trio
URL:https://arenysdemar.cat/document.php?id=19529
END:VEVENT
END:VCALENDAR