BEGIN:VCALENDAR
VERSION:2.0
PRODID:-//Plone.org//NONSGML plone.app.event//EN
X-WR-TIMEZONE:Europe/Madrid
BEGIN:VEVENT
SUMMARY:Ball a l'envelat
DTSTART;TZID=Europe/Madrid;VALUE=DATE-TIME:20081213T230000
DTEND;TZID=Europe/Madrid;VALUE=DATE-TIME:20081214T000000
DTSTAMP;VALUE=DATE-TIME:20260421T232053Z
UID:332ab32a53a4e4cbcd69211032900ff0
CREATED;VALUE=DATE-TIME:20081213T000000Z
CATEGORIES:Festa,Música
LOCATION:Ateneu Arenyenc
ORGANIZER:Ateneu Arenyenc
DESCRIPTION:amb Millenium el tercet
URL:https://arenysdemar.cat/document.php?id=19537
END:VEVENT
END:VCALENDAR