BEGIN:VCALENDAR
VERSION:2.0
PRODID:-//Plone.org//NONSGML plone.app.event//EN
X-WR-TIMEZONE:Europe/Madrid
BEGIN:VEVENT
SUMMARY:Dia de la no violència vers les dones
DTSTART;TZID=Europe/Madrid;VALUE=DATE-TIME:20081125T190000
DTEND;TZID=Europe/Madrid;VALUE=DATE-TIME:20081125T200000
DTSTAMP;VALUE=DATE-TIME:20260420T231937Z
UID:a8e4ec5d52d169e7bdbe8b24ee66b060
CREATED;VALUE=DATE-TIME:20081125T000000Z
LOCATION:Pati del C.C.Calisay
ORGANIZER:Ass.Dones per la Igualtat, d'Arenys de Mar
COMMENT:Preu: Gratuït
DESCRIPTION:Encesa d'espelmes i lectura de manifest
URL:https://arenysdemar.cat/document.php?id=19555
END:VEVENT
END:VCALENDAR