BEGIN:VCALENDAR
VERSION:2.0
PRODID:-//Plone.org//NONSGML plone.app.event//EN
X-WR-TIMEZONE:Europe/Madrid
BEGIN:VEVENT
SUMMARY:Audició de Sardanes
DTSTART;TZID=Europe/Madrid;VALUE=DATE-TIME:20090423T193000
DTEND;TZID=Europe/Madrid;VALUE=DATE-TIME:20090423T203000
DTSTAMP;VALUE=DATE-TIME:20260421T152420Z
UID:273373b4bee34c72b98fe7cdb24266a5
CREATED;VALUE=DATE-TIME:20090423T000000Z
CATEGORIES:Dansa
LOCATION:Plaça de l'Església - Plaça de l'Església
ORGANIZER:Regidoria de Cultura i Secció Sardanista de l'Ateneu Arenyenc
DESCRIPTION:a càrrec de la cobla Mediterrània
URL:https://arenysdemar.cat/document.php?id=19578
END:VEVENT
END:VCALENDAR