BEGIN:VCALENDAR
VERSION:2.0
PRODID:-//Plone.org//NONSGML plone.app.event//EN
X-WR-TIMEZONE:Europe/Madrid
BEGIN:VEVENT
SUMMARY:Dijous Sardanes
DTSTART;TZID=Europe/Madrid;VALUE=DATE-TIME:20090806T193000
DTEND;TZID=Europe/Madrid;VALUE=DATE-TIME:20090806T203000
DTSTAMP;VALUE=DATE-TIME:20260423T171211Z
UID:a58f97bb88dff8b9532207ba1ff5bb7c
CREATED;VALUE=DATE-TIME:20090806T000000Z
CATEGORIES:Dansa
LOCATION:Plaça de l'Església
ORGANIZER:Regidoria de Cultura i Secció Sardanista de l'Ateneu Arenyenc
DESCRIPTION:amb la Cobla Premià
URL:https://arenysdemar.cat/document.php?id=19582
END:VEVENT
END:VCALENDAR