BEGIN:VCALENDAR
VERSION:2.0
PRODID:-//Plone.org//NONSGML plone.app.event//EN
X-WR-TIMEZONE:Europe/Madrid
BEGIN:VEVENT
SUMMARY:Concert de Cobla
DTSTART;TZID=Europe/Madrid;VALUE=DATE-TIME:20090910T220000
DTEND;TZID=Europe/Madrid;VALUE=DATE-TIME:20090910T230000
DTSTAMP;VALUE=DATE-TIME:20260424T170727Z
UID:f72ea38e54f3aee17637e8f2e34e3d4b
CREATED;VALUE=DATE-TIME:20090910T000000Z
CATEGORIES:Música
LOCATION:Teatre Principal
ORGANIZER:Regidoria de Cultura i Secció Sardanista de l'Ateneu Arenyenc
DESCRIPTION:a càrrec de la Cobla Mediterrània
URL:https://arenysdemar.cat/document.php?id=19586
END:VEVENT
END:VCALENDAR