BEGIN:VCALENDAR
VERSION:2.0
PRODID:-//Plone.org//NONSGML plone.app.event//EN
X-WR-TIMEZONE:Europe/Madrid
BEGIN:VEVENT
SUMMARY:Triangular de Bàsquet
DTSTART;TZID=Europe/Madrid;VALUE=DATE-TIME:20081227T170000
DTEND;TZID=Europe/Madrid;VALUE=DATE-TIME:20081227T180000
DTSTAMP;VALUE=DATE-TIME:20260420T175853Z
UID:836cad5218d3280c00a70c282dfdc3f2
CREATED;VALUE=DATE-TIME:20081227T000000Z
CATEGORIES:Esports
LOCATION:CE Fondo de les Creus
ORGANIZER:Club Bàsquet Sinera, Ràdio Arenys i Arenys Bàsquet
DESCRIPTION:Diada de recaptació de fons per la Marató
URL:https://arenysdemar.cat/document.php?id=19603
END:VEVENT
END:VCALENDAR