BEGIN:VCALENDAR
VERSION:2.0
PRODID:-//Plone.org//NONSGML plone.app.event//EN
X-WR-TIMEZONE:Europe/Madrid
BEGIN:VEVENT
SUMMARY:Ball infantil
DTSTART;TZID=Europe/Madrid;VALUE=DATE-TIME:20090221T183000
DTEND;TZID=Europe/Madrid;VALUE=DATE-TIME:20090221T193000
DTSTAMP;VALUE=DATE-TIME:20260424T061228Z
UID:02b0617ca3b64386a928d9e2580a4609
CREATED;VALUE=DATE-TIME:20090221T000000Z
CATEGORIES:Festa
LOCATION:Pati del C.C.Calisay
ORGANIZER:Regidoria de Cultura i Centres d'Esplai Locals
DESCRIPTION:a càrrec de la Cia. Pentina el Gat
URL:https://arenysdemar.cat/document.php?id=19685
END:VEVENT
END:VCALENDAR