BEGIN:VCALENDAR
VERSION:2.0
PRODID:-//Plone.org//NONSGML plone.app.event//EN
X-WR-TIMEZONE:Europe/Madrid
BEGIN:VEVENT
SUMMARY:37è Concurs de Teatre Amateur Premi Vila d'Arenys de Mar 2009
DTSTART;TZID=Europe/Madrid;VALUE=DATE-TIME:20090308T181500
DTEND;TZID=Europe/Madrid;VALUE=DATE-TIME:20090308T191500
DTSTAMP;VALUE=DATE-TIME:20260420T133931Z
UID:8446a7cdffb7a00bffbcc1f454b521e6
CREATED;VALUE=DATE-TIME:20090308T000000Z
CATEGORIES:Teatre
LOCATION:Teatre dels Seràfics
ORGANIZER:Regidoria de Cultura i Grup Artístic Carles Xena
COMMENT:Preu: 6&euro; no socis 5&euro; socis 1&euro; estudiants
DESCRIPTION:Carnaval de Jordi Galceran, a càrrec del Grup Elenc Dramàtic de Sant Vicenç dels Horts
URL:https://arenysdemar.cat/document.php?id=19706
END:VEVENT
END:VCALENDAR