BEGIN:VCALENDAR
VERSION:2.0
PRODID:-//Plone.org//NONSGML plone.app.event//EN
X-WR-TIMEZONE:Europe/Madrid
BEGIN:VEVENT
SUMMARY:37è Concurs de Teatre Amateur Premi Vila d'Arenys de Mar 2009
DTSTART;TZID=Europe/Madrid;VALUE=DATE-TIME:20090329T181500
DTEND;TZID=Europe/Madrid;VALUE=DATE-TIME:20090329T191500
DTSTAMP;VALUE=DATE-TIME:20260424T023322Z
UID:ae9601ee72e068e4ae6f511add2ecad4
CREATED;VALUE=DATE-TIME:20090329T000000Z
CATEGORIES:Teatre
LOCATION:Teatre dels Seràfics
ORGANIZER:Regidoria de Cultura i Grup Artístic Carles Xena
COMMENT:Preu: 6&euro; no socis 5&euro; socis 1&euro; estudiants
DESCRIPTION:Terra Baixa d´Àngel Guimerà, a càrrec de Grup Qollunaka de Terrassa
URL:https://arenysdemar.cat/document.php?id=19708
END:VEVENT
END:VCALENDAR