BEGIN:VCALENDAR
VERSION:2.0
PRODID:-//Plone.org//NONSGML plone.app.event//EN
X-WR-TIMEZONE:Europe/Madrid
BEGIN:VEVENT
SUMMARY:Conferència de Psicologia: Deixar de discutir per entendre'ns
DTSTART;TZID=Europe/Madrid;VALUE=DATE-TIME:20090317T180000
DTEND;TZID=Europe/Madrid;VALUE=DATE-TIME:20090317T190000
DTSTAMP;VALUE=DATE-TIME:20260420T165839Z
UID:29d2fc44d47c91c94470c54115dc2227
CREATED;VALUE=DATE-TIME:20090317T000000Z
CATEGORIES:Conferència
LOCATION:Auditori J.M. Arnau del C.C.Calisay
ORGANIZER:Aula d'Extensió Universitària
DESCRIPTION:a càrrec de Ramon Buscallà, psicòleg
URL:https://arenysdemar.cat/document.php?id=19742
END:VEVENT
END:VCALENDAR