BEGIN:VCALENDAR
VERSION:2.0
PRODID:-//Plone.org//NONSGML plone.app.event//EN
X-WR-TIMEZONE:Europe/Madrid
BEGIN:VEVENT
SUMMARY:Conferència de Psicologia: Per què cal també parlar dels homes?
DTSTART;TZID=Europe/Madrid;VALUE=DATE-TIME:20090324T180000
DTEND;TZID=Europe/Madrid;VALUE=DATE-TIME:20090324T190000
DTSTAMP;VALUE=DATE-TIME:20260420T110606Z
UID:42794e485fa52a6fce1d8303bfd1d8a1
CREATED;VALUE=DATE-TIME:20090324T000000Z
CATEGORIES:Conferència
LOCATION:Auditori J.M. Arnau del C.C.Calisay
ORGANIZER:Aula d'Extensió Universitària
DESCRIPTION:a càrrec de Daniel Gabarró, psicopedagog i membre de l'Associació d'Homes per la Igualtat de Gènere
URL:https://arenysdemar.cat/document.php?id=19743
END:VEVENT
END:VCALENDAR