BEGIN:VCALENDAR
VERSION:2.0
PRODID:-//Plone.org//NONSGML plone.app.event//EN
X-WR-TIMEZONE:Europe/Madrid
BEGIN:VEVENT
SUMMARY:Conferència d'Humanitats: Allò que l'Univers em diu de Gustav Mahler
DTSTART;TZID=Europe/Madrid;VALUE=DATE-TIME:20090331T180000
DTEND;TZID=Europe/Madrid;VALUE=DATE-TIME:20090331T190000
DTSTAMP;VALUE=DATE-TIME:20260420T111537Z
UID:f68003d636aa239df04cd34b310aebb0
CREATED;VALUE=DATE-TIME:20090331T000000Z
CATEGORIES:Conferència
LOCATION:Auditori J.M. Arnau del C.C.Calisay
ORGANIZER:Aula d'Extensió Universitària
DESCRIPTION:a càrrec de Francesc Lozano de la Universitat Ramon Llull
URL:https://arenysdemar.cat/document.php?id=19745
END:VEVENT
END:VCALENDAR