BEGIN:VCALENDAR
VERSION:2.0
PRODID:-//Plone.org//NONSGML plone.app.event//EN
X-WR-TIMEZONE:Europe/Madrid
BEGIN:VEVENT
SUMMARY:Cantata Jazz : He mirat aquesta terra
DTSTART;TZID=Europe/Madrid;VALUE=DATE-TIME:20090315T190000
DTEND;TZID=Europe/Madrid;VALUE=DATE-TIME:20090315T200000
DTSTAMP;VALUE=DATE-TIME:20260421T233509Z
UID:0d133d48d181ce041514a6abcb316b82
CREATED;VALUE=DATE-TIME:20090315T000000Z
CATEGORIES:Música
LOCATION:Teatre Principal
ORGANIZER:SC L'Esperança - Regidoria de Cultura
COMMENT:Preu: 15 &euro;
DESCRIPTION:a càrrec de La Locomotora Negra + Coral Sant Jordi + Solistes i amb la particiació de Mercè Pons
URL:https://arenysdemar.cat/document.php?id=19751
END:VEVENT
END:VCALENDAR