BEGIN:VCALENDAR
VERSION:2.0
PRODID:-//Plone.org//NONSGML plone.app.event//EN
X-WR-TIMEZONE:Europe/Madrid
BEGIN:VEVENT
SUMMARY:Taller de confecció de màscares
DTSTART;TZID=Europe/Madrid;VALUE=DATE-TIME:20090207T170000
DTEND;TZID=Europe/Madrid;VALUE=DATE-TIME:20090207T180000
DTSTAMP;VALUE=DATE-TIME:20260420T152054Z
UID:cd4312339ac5b5f01b2bc1ca647c6bfd
CREATED;VALUE=DATE-TIME:20090207T000000Z
CATEGORIES:Mostra,Festa,Cursos
LOCATION:Espai Jove del C.C.Calisay
ORGANIZER:Regidoria de Joventut
COMMENT:Preu: Gratuït
DESCRIPTION:Confecciona la teva màscara amb guix
URL:https://arenysdemar.cat/document.php?id=19767
END:VEVENT
END:VCALENDAR