BEGIN:VCALENDAR
VERSION:2.0
PRODID:-//Plone.org//NONSGML plone.app.event//EN
X-WR-TIMEZONE:Europe/Madrid
BEGIN:VEVENT
SUMMARY:Del bombatxo al xandall
DTSTART;TZID=Europe/Madrid;VALUE=DATE-TIME:20090308T130000
DTEND;TZID=Europe/Madrid;VALUE=DATE-TIME:20090308T140000
DTSTAMP;VALUE=DATE-TIME:20260420T120414Z
UID:d72bf9f635fdf46303e69de816da853b
CREATED;VALUE=DATE-TIME:20090308T000000Z
CATEGORIES:Exposició
LOCATION:Museu Marès de la Punta
ORGANIZER:Museu d'Arenys de Mar-Regidoria de Cultura, Associació de Dones per a la Igualtat i Regidoria de la Dona
COMMENT:Preu: Gratuït
Durada: Fins al 24 de maig
DESCRIPTION:La dona en l'esport des dels anys 40 fins a l'actualitat
URL:https://arenysdemar.cat/document.php?id=19791
END:VEVENT
END:VCALENDAR