BEGIN:VCALENDAR
VERSION:2.0
PRODID:-//Plone.org//NONSGML plone.app.event//EN
X-WR-TIMEZONE:Europe/Madrid
BEGIN:VEVENT
SUMMARY:Atletisme a la Platja
DTSTART;TZID=Europe/Madrid;VALUE=DATE-TIME:20090329T103000
DTEND;TZID=Europe/Madrid;VALUE=DATE-TIME:20090329T113000
DTSTAMP;VALUE=DATE-TIME:20260423T123012Z
UID:5dcccdcff5d9a590459b227b7ca1d311
CREATED;VALUE=DATE-TIME:20090329T000000Z
CATEGORIES:Esports
LOCATION:Platja Picòrdia (1ª Platja)
ORGANIZER:Regidoria d'Esports, Penya Apa Anem-hi i Federació Catalana d'Atletisme
DESCRIPTION:Exhibició de Salt amb Perxa
URL:https://arenysdemar.cat/document.php?id=19813
END:VEVENT
END:VCALENDAR