BEGIN:VCALENDAR
VERSION:2.0
PRODID:-//Plone.org//NONSGML plone.app.event//EN
X-WR-TIMEZONE:Europe/Madrid
BEGIN:VEVENT
SUMMARY:Tarda de Sing Star
DTSTART;TZID=Europe/Madrid;VALUE=DATE-TIME:20090206T163000
DTEND;TZID=Europe/Madrid;VALUE=DATE-TIME:20090206T173000
DTSTAMP;VALUE=DATE-TIME:20260423T183900Z
UID:a09ec6a62e863e17d79dbe476d696fa4
CREATED;VALUE=DATE-TIME:20090206T000000Z
CATEGORIES:Música
LOCATION:Espai Jove del C.C.Calisay - Riera del Pare Fita, 31
ORGANIZER:Regidoria de Joventut
URL:https://arenysdemar.cat/document.php?id=19815
END:VEVENT
END:VCALENDAR