BEGIN:VCALENDAR
VERSION:2.0
PRODID:-//Plone.org//NONSGML plone.app.event//EN
X-WR-TIMEZONE:Europe/Madrid
BEGIN:VEVENT
SUMMARY:Parada de llibres i roses
DTSTART;TZID=Europe/Madrid;VALUE=DATE-TIME:20090423T090000
DTEND;TZID=Europe/Madrid;VALUE=DATE-TIME:20090423T100000
DTSTAMP;VALUE=DATE-TIME:20260421T134915Z
UID:ec3e5c5c0e17be3b1f2d69f3523e6ea4
CREATED;VALUE=DATE-TIME:20090423T000000Z
CATEGORIES:Mostra
LOCATION:Plaça de l'Església - Plaça de l'Església
ORGANIZER:Ajuntament d'Arenys de Mar
URL:https://arenysdemar.cat/document.php?id=19835
END:VEVENT
END:VCALENDAR